BEGIN:VCALENDAR
VERSION:2.0
PRODID:-//Express Healthcare - ECPv6.15.20//NONSGML v1.0//EN
CALSCALE:GREGORIAN
METHOD:PUBLISH
X-ORIGINAL-URL:https://www.expresshealthcare.in
X-WR-CALDESC:Events for Express Healthcare
REFRESH-INTERVAL;VALUE=DURATION:PT1H
X-Robots-Tag:noindex
X-PUBLISHED-TTL:PT1H
BEGIN:VTIMEZONE
TZID:Asia/Kolkata
BEGIN:STANDARD
TZOFFSETFROM:+0530
TZOFFSETTO:+0530
TZNAME:IST
DTSTART:20180101T000000
END:STANDARD
END:VTIMEZONE
BEGIN:VEVENT
DTSTART;TZID=Asia/Kolkata:20190712T150000
DTEND;TZID=Asia/Kolkata:20190713T143000
DTSTAMP:20260426T042412
CREATED:20190514T043224Z
LAST-MODIFIED:20190514T043224Z
UID:411520-1562943600-1563028200@www.expresshealthcare.in
SUMMARY:Radiology and Imaging Conclave 2019: 12 - 13 July 2019
DESCRIPTION:Radiology is an ever evolving field. Especially\, with the increasing use and application of digital technologies in radiology the field is set to witness some exciting disruptions. At the second edition of Radiology and Imaging Conclave the crème de la crème from the radiology fraternity in India will ideate \nAfter the success of the first edition of Radiology and Imaging Conclave in July 2018\, Express Healthcare and the Radiology and Education Foundation (REF) is all set launch its second edition. The theme of Radiology and Imaging Conclave 2019 will be Radiology 2024\, that delves into understanding future challenges and opportunities in the next five years. The conclave aims to disseminate information and knowledge that can help radiologists to turn challenges into opportunities and ensure a sustainable growth. \n\n\n\nTopics of discussion\n\nAI and clinical decision support\nAdding ‘Value’ in Radiology and enhancing patient experience\nManaging a radiology dept/center efficiently\nCut Practice: Can it be phased out? (Panel Discussion)\nManaging emergencies (both medical and patient-created)\nPlanning the finances of a radiology center\nFellowship and sub-specialisation programs: Can we do better? (Panel Discussion)\nCreating moonshots for the future: What is our wish list? (Panel Discussion\nEncouraging women in radiology\n\nFor complete details visit: www.radiology.expresshealthcare.in \nRegister Now
URL:https://www.expresshealthcare.in/event/radiology-and-imaging-conclave-2019-12-13-july-2019/
LOCATION:Radisson Blu Plaza Delhi Airport\, Near Mahipalpur Extension Nh 8\, Block R\, Mahipalpur Village\, Mahipalpur\, New Delhi\, Delhi\, 110037\, India
ATTACH;FMTTYPE=image/jpeg:https://cdn.expresshealthcare.in/wp-content/uploads/2019/05/14094306/Radiology-2024-Web.jpg
ORGANIZER;CN="Express Healthcare":MAILTO:rbhatkal@gmail.com
END:VEVENT
END:VCALENDAR