BEGIN:VCALENDAR
VERSION:2.0
PRODID:-//Express Healthcare - ECPv6.15.20//NONSGML v1.0//EN
CALSCALE:GREGORIAN
METHOD:PUBLISH
X-ORIGINAL-URL:https://www.expresshealthcare.in
X-WR-CALDESC:Events for Express Healthcare
REFRESH-INTERVAL;VALUE=DURATION:PT1H
X-Robots-Tag:noindex
X-PUBLISHED-TTL:PT1H
BEGIN:VTIMEZONE
TZID:Asia/Kolkata
BEGIN:STANDARD
TZOFFSETFROM:+0530
TZOFFSETTO:+0530
TZNAME:IST
DTSTART:20200101T000000
END:STANDARD
END:VTIMEZONE
BEGIN:VEVENT
DTSTART;TZID=Asia/Kolkata:20210129T150000
DTEND;TZID=Asia/Kolkata:20210129T163000
DTSTAMP:20260425T012458
CREATED:20210113T083556Z
LAST-MODIFIED:20210113T083754Z
UID:426884-1611932400-1611937800@www.expresshealthcare.in
SUMMARY:The Reproducibility of Flow Cytometry data – aspects of standardization and validation in Clinical flow cytometry | 29th January 2021
DESCRIPTION:Register Now \n\nFrom a Diagnostic Laboratory perspective it is imperative to provide Clinicians with reliable data for patient management. From a patient and regulatory perspective\, the reported results should be consistent and statistically accurate. Reliable data depends on robust validation protocols and precise Instrument Standardization procedures verified by the end user laboratory on an ongoing basis. \nCome join us for a webinar on ‘The Reproducibility of Flow Cytometry data – aspects of standardization and validation in Clinical flow cytometry’\, followed by an expert panel discussion session on Best Practices in Instrument Setup and Standardization \nWhy Attend:\n+ Learn about Hematopathology and Flowcytometry Assay Validation\n+ Learn about Audit compliance\n+ Importance of using different levels of Controls\n+ Record Management and Data traceability\n+ Addressing Non Conformances \nSpeaker:\nDr Mathias Streitz\, Charité – Universitätsmedizin\, Berlin \nPanelist:\n+ Dr Kunal Sehgal\, Director\, Sehgal Path Lab;\n+ Dr Amar Dasgupta\, President-International Operations & Mentor-Hematology Services\, Suburban Diagnostics;\n+ Dr M. Prabhu\, Assistant Professor\, Dept. of Pathology\, JIPMER\, Puducherry;\n+ Dr Anil Handoo\, Senior Director\, Hospital Laboratory Services & Senior Consultant Hematology\, Max Healthcare Institute\, BLK Super Speciality Hospital\, New Delhi
URL:https://www.expresshealthcare.in/event/the-reproducibility-of-flow-cytometry-data-aspects-of-standardization-and-validation-in-clinical-flow-cytometry-29th-january-2021/
LOCATION:Live Webinar
CATEGORIES:Webinars
ATTACH;FMTTYPE=image/jpeg:https://cdn.expresshealthcare.in/wp-content/uploads/2021/01/13140207/EP_EH_BC_29Jan2021_EvPage.jpg
END:VEVENT
END:VCALENDAR