BEGIN:VCALENDAR
VERSION:2.0
PRODID:-//Express Healthcare - ECPv6.15.20//NONSGML v1.0//EN
CALSCALE:GREGORIAN
METHOD:PUBLISH
X-ORIGINAL-URL:https://www.expresshealthcare.in
X-WR-CALDESC:Events for Express Healthcare
REFRESH-INTERVAL;VALUE=DURATION:PT1H
X-Robots-Tag:noindex
X-PUBLISHED-TTL:PT1H
BEGIN:VTIMEZONE
TZID:Asia/Kolkata
BEGIN:STANDARD
TZOFFSETFROM:+0530
TZOFFSETTO:+0530
TZNAME:IST
DTSTART:20200101T000000
END:STANDARD
END:VTIMEZONE
BEGIN:VEVENT
DTSTART;TZID=Asia/Kolkata:20210721T150000
DTEND;TZID=Asia/Kolkata:20210721T160000
DTSTAMP:20260424T150600
CREATED:20210705T104114Z
LAST-MODIFIED:20210705T104114Z
UID:430119-1626879600-1626883200@www.expresshealthcare.in
SUMMARY:How remote patient monitoring is shaping the future of healthcare
DESCRIPTION:Register Now \n\nShortage of healthcare workers including doctors\, nurses and other primary care staff has been a pressing issue of concern in India over the last few years. The latest study conducted by the Center for Disease Dynamics\, Economy and Policy (CDDEP) has found that India has a shortage of an estimated 600\,000 doctors and 2 million nurses. \nThis is where the cutting edge technology of Remote Patient Monitoring (RPM) comes as a saviour and may prevent the hospitals from bearing the brunt due to staff shortage. Remote Patient Monitoring is rapidly becoming a way for hospitals and healthcare providers to deliver an enhanced level of quality patient care through the pandemic and beyond. From COVID-19 patient care\, to post-surgical follow-up\, to ongoing care management for patients with chronic illness\, RPM helps doctors and hospitals with clinical-grade technology to provide quality of care safely and at scale. \nRPM is cost-effective and does not compromise on patient care. It provides doctors with continuous data on a patient’s vitals and raises an alert when there is deterioration in health\, empowering them to make informed care decisions before it gets critical. RPM enables doctors & nurses to optimize and focus on critical patients and set personalized and custom alerts to detect any abnormality in the vital parameters. Doctors and healthcare teams can also remotely monitor hundreds of patients at a time from the centralised patient monitor\, a web-dashboard and also from a mobile phone app. Custom alerts can be set for every patient\, helping doctors optimise treatment plans\, focus on deteriorating patients and provide improved proactive care. \nTo explore how doctors are already benefitting from RPM\, Express Healthcare\, in association with Dozee\, is organising a panel discussion\, titled\, ‘How remote patient monitoring is shaping the future of healthcare’ \nWho should attend:\n+ Doctors\n+ Hospital administrators/decision makers\n+ Head of nursing\n+ Intensivist \nPanelists:\n+ Dr. Shailesh Jhawar\, Director – HOPES\, Sr. Consultant – Critical Care & Cardiothoracic Anaesthesia\, Apex Hospitals\n+ Dr. Avinash H R\, Asst. Professor\, General Medicine\, ESIC Hospital\n+ Dr. Vaishali Shelgaonkar\, Associate Professor & HOD\, Dept. of Anaesthesia Indira Gandhi Government Medical College\, Nagpur\n+ Mudit Dandwate\, CEO & Cofounder\, Dozee
URL:https://www.expresshealthcare.in/event/how-remote-patient-monitoring-is-shaping-the-future-of-healthcare/
LOCATION:Live Panel Disscussion
CATEGORIES:Webinars
ATTACH;FMTTYPE=image/jpeg:https://cdn.expresshealthcare.in/wp-content/uploads/2021/07/05161038/EH_Dozee_21st_JULY_2021_EventPage.jpg
END:VEVENT
END:VCALENDAR