BEGIN:VCALENDAR
VERSION:2.0
PRODID:-//Express Healthcare - ECPv6.15.20//NONSGML v1.0//EN
CALSCALE:GREGORIAN
METHOD:PUBLISH
X-ORIGINAL-URL:https://www.expresshealthcare.in
X-WR-CALDESC:Events for Express Healthcare
REFRESH-INTERVAL;VALUE=DURATION:PT1H
X-Robots-Tag:noindex
X-PUBLISHED-TTL:PT1H
BEGIN:VTIMEZONE
TZID:Asia/Kolkata
BEGIN:STANDARD
TZOFFSETFROM:+0530
TZOFFSETTO:+0530
TZNAME:IST
DTSTART:20200101T000000
END:STANDARD
END:VTIMEZONE
BEGIN:VEVENT
DTSTART;TZID=Asia/Kolkata:20210928T150000
DTEND;TZID=Asia/Kolkata:20210928T163000
DTSTAMP:20260424T110056
CREATED:20210916T080155Z
LAST-MODIFIED:20210916T080155Z
UID:431135-1632841200-1632846600@www.expresshealthcare.in
SUMMARY:Accelerating Innovation in Medical Devices Through Simulation | 28th September 2021
DESCRIPTION:Register Now \n\nComputational modeling and simulations (CM&S) are recognized by both industry and regulatory agencies as an alternative to physical testing\, but they have historically been used in silos with minimal collaboration between various design disciplines and engineering departments. To address the needs of today’s product development teams\, Ansys has developed a multi-domain system simulation and digital prototyping platform that enables multi-specialty teams with diverse engineering backgrounds to work in unison to achieve a deep understanding of integrated product behavior. \nAs an example of a typical medical device development\, we will show a systems simulation solution for a wearable drug delivery device that illustrates the complexities of developing these multi-disciplinary systems. The model includes evaluation of various physical components\, control algorithms\, display interfaces and power electronics. In addition to the presentation\, a demo will show how various components can be combined to model the drug delivery subsystem using a hardware-in-the-loop approach. We will also discuss Ansys solutions that help you meet regulatory requirements. \nWe will also have a Fireside Chat where you can listen from the industry experts on how CM&S can be employed in design & development of Medical Devices. In this roundtable a panel of experts will take participants through the ways to address key challenges the medical device industry faces and draw a roadmap to possible MedTech innovations. \nWho should attend :\n+ All medical device companies\n+ Engineering managers\n+ Research engineers/scientists\n+ Designer engineers\n+ Product managers \nSpeaker:\n+ Santhosh Kumar Murugadass\, Principal Technology Specialist\, Ansys \nModerator:\n+ Hemant Punekar\, Senior Manager Application Engineering\, Ansys
URL:https://www.expresshealthcare.in/event/accelerating-innovation-in-medical-devices-through-simulation-28th-september-2021/
LOCATION:Live Virtual Roundtable
CATEGORIES:Webinars
ATTACH;FMTTYPE=image/jpeg:https://cdn.expresshealthcare.in/wp-content/uploads/2021/09/16125823/EH_ANSYS_28th_Sept_2021_Event_Page.jpg
END:VEVENT
END:VCALENDAR