BEGIN:VCALENDAR
VERSION:2.0
PRODID:-//Express Healthcare - ECPv6.15.20//NONSGML v1.0//EN
CALSCALE:GREGORIAN
METHOD:PUBLISH
X-ORIGINAL-URL:https://www.expresshealthcare.in
X-WR-CALDESC:Events for Express Healthcare
REFRESH-INTERVAL;VALUE=DURATION:PT1H
X-Robots-Tag:noindex
X-PUBLISHED-TTL:PT1H
BEGIN:VTIMEZONE
TZID:Asia/Kolkata
BEGIN:STANDARD
TZOFFSETFROM:+0530
TZOFFSETTO:+0530
TZNAME:IST
DTSTART:20230101T000000
END:STANDARD
END:VTIMEZONE
BEGIN:VEVENT
DTSTART;TZID=Asia/Kolkata:20240531T100000
DTEND;TZID=Asia/Kolkata:20240531T170000
DTSTAMP:20260422T004446
CREATED:20240509T110335Z
LAST-MODIFIED:20240509T110524Z
UID:443416-1717149600-1717174800@www.expresshealthcare.in
SUMMARY:GenNext Hospital Summit 2024 | 31st May 2024
DESCRIPTION:Register Now \n\nBUILDING A FUTURE-READY HEALTHCARE ECOSYSTEM\n\nThe healthcare landscape is undergoing rapid transformation. driven by advancements in technology\, shifting demographics\, and evolving patient expectations. \nExpress Healthcare\, therefore\, is launching a series of conferences called “GenNext Hospital Summit.” These summits aim to facilitate the creation of next-gen hospitals geared to deal with the evolving healthcare landscape and patient needs. \nIt will convene leaders\, experts and decision-makers to delve into emerging trends\, challenges\, and opportunities faced by new-age hospitals. \nThese summits will be held in emerging healthcare hubs such as Nashik\, Lucknow\, Bhubaneshwar\, Jaipur\, Guwahati\, Chennai etc. \nFor more information: https://gennexthospsummit.expresshealthcare.in/
URL:https://www.expresshealthcare.in/event/gennext-hospital-summit-2024-31st-may-2024/
LOCATION:Courtyard by Marriott Nashik\, Mumbai - Agra National Hwy\, near Mumbai Naka\, Renuka Nagar\, Nashik\, Maharashtra\, 422001\, India
CATEGORIES:Physical
ATTACH;FMTTYPE=image/jpeg:https://cdn.expresshealthcare.in/wp-content/uploads/2024/05/09163019/EH_GenNext_Hosp_Summit_31st_May_2024_Nashik_EventPage.jpg
ORGANIZER;CN="Express Healthcare":MAILTO:rbhatkal@gmail.com
END:VEVENT
END:VCALENDAR