BEGIN:VCALENDAR
VERSION:2.0
PRODID:-//Express Healthcare - ECPv6.15.20//NONSGML v1.0//EN
CALSCALE:GREGORIAN
METHOD:PUBLISH
X-ORIGINAL-URL:https://www.expresshealthcare.in
X-WR-CALDESC:Events for Express Healthcare
REFRESH-INTERVAL;VALUE=DURATION:PT1H
X-Robots-Tag:noindex
X-PUBLISHED-TTL:PT1H
BEGIN:VTIMEZONE
TZID:Asia/Kolkata
BEGIN:STANDARD
TZOFFSETFROM:+0530
TZOFFSETTO:+0530
TZNAME:IST
DTSTART:20200101T000000
END:STANDARD
END:VTIMEZONE
BEGIN:VEVENT
DTSTART;TZID=Asia/Kolkata:20211022T150000
DTEND;TZID=Asia/Kolkata:20211022T163000
DTSTAMP:20260424T110619
CREATED:20211005T140226Z
LAST-MODIFIED:20211013T083926Z
UID:431497-1634914800-1634920200@www.expresshealthcare.in
SUMMARY:Best practices for transforming public healthcare using the power of technology | 22nd October 2021
DESCRIPTION:Register Now \n\nThe healthcare industry is currently experiencing a major shift with much of the focus on COVID-19 clinical\, operational\, and financial efforts. However\, beyond the pandemic\, the sector has to address significant non-COVID challenges. This is more challenging for healthcare officials in the government\, as many departments are struggling to handle the. huge demands on healthcare facilities with limited resources. \nTechnology can play a massive role in helping public healthcare organizations quickly adapt and respond to these challenges and rapidly innovate with data-driven and compliant solutions. \nTo understand the power and potential of technology in improving the quality and accessibility of healthcare facilities in the public sector\, Express Healthcare\, in association with AWS\, is hosting a knowledge webinar focused on ‘Best practices for transforming public healthcare using the power of technology’ \nWe would like to invite you to this webinar where you would get insights about the key challenges facing healthcare today\, and how different government departments are addressing them. You would witness thoughts and perspectives from various experts on how emerging technologies can be used to transform the state of public healthcare in India. \nSpeakers:\n+ Ajay Kaul\, Head\, State & Local Govt. Business\, WWPS\, Amazon Internet Services Pvt Ltd (AISPL)\n+ Veena George\, Minister of Health & Family Welfare\, Government of Kerala\n+ Kanishka Agiwal\, Head – Service Lines\, India/South Asia\, WWPS\, Amazon Internet Services Pvt Ltd (AISPL)\n+ Karuna Vakati IAS\, Commissioner\, Health & FW and Mission Director\, National Health Mission\, Government of Telangana\n+ Dr. Viduthalai Virumbi B\, State Digital Health Mission and Nodal Officer(Technical)\, National Health Mission\, Government of Tamil Nadu
URL:https://www.expresshealthcare.in/event/best-practices-for-transforming-public-healthcare-using-the-power-of-technology-22nd-october-2021/
LOCATION:Live Webinar
CATEGORIES:Webinars
ATTACH;FMTTYPE=image/jpeg:https://cdn.expresshealthcare.in/wp-content/uploads/2021/10/13140904/EC_AWS_22ndOct2021_Event_Page.jpg
END:VEVENT
END:VCALENDAR